BEGIN:VCALENDAR
VERSION:2.0
PRODID:-//ChamberMaster//Event Calendar 2.0//EN
METHOD:PUBLISH
X-PUBLISHED-TTL:P3D
REFRESH-INTERVAL:P3D
CALSCALE:GREGORIAN
BEGIN:VEVENT
DTSTART:20210622T224500Z
DTEND:20210623T000000Z
X-MICROSOFT-CDO-ALLDAYEVENT:FALSE
SUMMARY:Ribbon Cutting for Feed The Children
DESCRIPTION:Join the Chandler Chamber at the ribbon cutting for:\n\nFeed The Children\n\n\n\nThank you to our Ribbon Sponsor - Laser Creations
X-ALT-DESC;FMTTYPE=text/html:Join the Chandler Chamber at the ribbon cutting for:<br />\nFeed The Children<br />\n<br />\nThank you to our Ribbon Sponsor - Laser Creations
LOCATION:3475 S McQueen Rd Chandler AZ 85286 (south of Queen Creek Rd) Ribbon cut at 4:30pm
UID:e.1561.39948
SEQUENCE:3
DTSTAMP:20260424T135444Z
URL:https://business.chandlerchamber.com/events/details/ribbon-cutting-for-feed-the-children-39948
END:VEVENT

END:VCALENDAR
