BEGIN:VCALENDAR
VERSION:2.0
PRODID:-//ChamberMaster//Event Calendar 2.0//EN
METHOD:PUBLISH
X-PUBLISHED-TTL:P3D
REFRESH-INTERVAL:P3D
CALSCALE:GREGORIAN
BEGIN:VEVENT
DTSTART:20220401T010000Z
DTEND:20220401T020000Z
X-MICROSOFT-CDO-ALLDAYEVENT:FALSE
SUMMARY:Ribbon Cutting for Full Circle Program
DESCRIPTION:Join the Chandler Chamber at the Ribbon Cutting for:\n\nFull Circle Program\n\n325 E Elliot Rd #29\n\nChandler AZ 85225\n\n\n\nThank You to our Ribbon Sponsor: Laser Creations
X-ALT-DESC;FMTTYPE=text/html:Join the Chandler Chamber at the Ribbon Cutting for:<br />\n<strong><span style="font-size:14px\;">Full Circle Program<br />\n325 E Elliot Rd #29<br />\nChandler AZ 85225</span></strong><br />\n<br />\nThank You to our <span style="font-size:14px\;"><span style="font-family:arial\;"><strong>Ribbon Sponsor: Laser Creations</strong></span></span><br />\n&nbsp\;
LOCATION:325 E Elliot Rd #29 Chandler AZ 85225
UID:e.1561.40653
SEQUENCE:3
DTSTAMP:20260423T233819Z
URL:https://business.chandlerchamber.com/events/details/ribbon-cutting-for-full-circle-program-40653
END:VEVENT

END:VCALENDAR
