BEGIN:VCALENDAR
VERSION:2.0
PRODID:-//ChamberMaster//Event Calendar 2.0//EN
METHOD:PUBLISH
X-PUBLISHED-TTL:P3D
REFRESH-INTERVAL:P3D
CALSCALE:GREGORIAN
BEGIN:VEVENT
DTSTART:20171129T230000Z
DTEND:20171130T000000Z
X-MICROSOFT-CDO-ALLDAYEVENT:FALSE
SUMMARY:Ribbon Cutting for Ghett Yo Taco
DESCRIPTION:Join the Chandler Chamber at a ribbon cutting for Ghett Yo Taco \n\n*Thank you to our ribbon sponsor Laser Creations*
X-ALT-DESC;FMTTYPE=text/html:Join the Chandler Chamber at a ribbon cutting for Ghett&nbsp\;Yo Taco&nbsp\;<br />\n*Thank you to our ribbon sponsor Laser Creations*
LOCATION:241 S. Oregon St. Chandler\, AZ 85255 On Oregon St.\, south of W. Chicago St (Next door to The Perch Brewery)
UID:e.1561.19629
SEQUENCE:3
DTSTAMP:20260424T034551Z
URL:https://business.chandlerchamber.com/events/details/ribbon-cutting-for-ghett-yo-taco-19629
END:VEVENT

END:VCALENDAR
