BEGIN:VCALENDAR
VERSION:2.0
PRODID:-//ChamberMaster//Event Calendar 2.0//EN
METHOD:PUBLISH
X-PUBLISHED-TTL:P3D
REFRESH-INTERVAL:P3D
CALSCALE:GREGORIAN
BEGIN:VEVENT
DTSTART:20220325T153000Z
DTEND:20220325T163000Z
X-MICROSOFT-CDO-ALLDAYEVENT:FALSE
SUMMARY:Ribbon Cutting for Goodwill Cooper Store
DESCRIPTION:Join the Chandler Chamber at the Ribbon Cutting for:\n\nGoodwill - Cooper Store Grand Opening\n\n1850 E Chandler Blvd\n\nChandler AZ 85225\n\n\n\nThank you to our Ribbon Sponsor - Laser Creations
X-ALT-DESC;FMTTYPE=text/html:Join the Chandler Chamber at the Ribbon Cutting for:<br />\n<strong><span style="font-size:16px\;">Goodwill - Cooper Store Grand Opening<br />\n1850 E Chandler Blvd<br />\nChandler AZ 85225</span></strong><br />\n<br />\n<strong>Thank you to our Ribbon Sponsor - Laser Creations</strong>
LOCATION:1850 E Chandler Blvd Chandler AZ 85225
UID:e.1561.40657
SEQUENCE:3
DTSTAMP:20260423T233910Z
URL:https://business.chandlerchamber.com/events/details/ribbon-cutting-for-goodwill-cooper-store-40657
END:VEVENT

END:VCALENDAR
