BEGIN:VCALENDAR
VERSION:2.0
PRODID:-//ChamberMaster//Event Calendar 2.0//EN
METHOD:PUBLISH
X-PUBLISHED-TTL:P3D
REFRESH-INTERVAL:P3D
CALSCALE:GREGORIAN
BEGIN:VEVENT
DTSTART:20170914T230000Z
DTEND:20170915T000000Z
X-MICROSOFT-CDO-ALLDAYEVENT:FALSE
SUMMARY:Ribbon Cutting for Grand Reopening of Blueprint High School
DESCRIPTION:Join the Chandler Chamber for a ribbon cutting to celebrate the Grand-Reopening of Blueprint High School\n\n*Thank you to our ribbon sponsor Laser Creations*
X-ALT-DESC;FMTTYPE=text/html:Join the Chandler Chamber for a ribbon cutting to celebrate the Grand-Reopening of Blueprint High School<br />\n*Thank you to our ribbon sponsor Laser Creations*
LOCATION:670 N Arizona Ave #1 Chandler\, AZ (between Chandler Blvd & Ray Rd\, west side)
UID:e.1561.19140
SEQUENCE:3
DTSTAMP:20260424T051536Z
URL:https://business.chandlerchamber.com/events/details/ribbon-cutting-for-grand-reopening-of-blueprint-high-school-19140
END:VEVENT

END:VCALENDAR
