BEGIN:VCALENDAR
VERSION:2.0
PRODID:-//ChamberMaster//Event Calendar 2.0//EN
METHOD:PUBLISH
X-PUBLISHED-TTL:P3D
REFRESH-INTERVAL:P3D
CALSCALE:GREGORIAN
BEGIN:VEVENT
DTSTART:20190326T230000Z
DTEND:20190327T000000Z
X-MICROSOFT-CDO-ALLDAYEVENT:FALSE
SUMMARY:Ribbon Cutting for Guild Mortgage Company
DESCRIPTION:Join the Chandler Chamber for the Ribbon Cutting at Guild Mortgage Company    \n\n\n\nThank you to our Ribbon Sponsor Laser Creations
X-ALT-DESC;FMTTYPE=text/html:Join the Chandler Chamber for the Ribbon Cutting at Guild Mortgage Company&nbsp\;&nbsp\;&nbsp\;&nbsp\;<br />\n<br />\nThank you to our Ribbon Sponsor Laser Creations
LOCATION:Guild Mortgage Company 3075 W Ray Rd #10 Chandler AZ 85226 (Ray/Price Rd\; in the Pearson building behind Alliance Bank)
UID:e.1561.36610
SEQUENCE:3
DTSTAMP:20260423T061343Z
URL:https://business.chandlerchamber.com/events/details/ribbon-cutting-for-guild-mortgage-company-36610
END:VEVENT

END:VCALENDAR
