BEGIN:VCALENDAR
VERSION:2.0
PRODID:-//ChamberMaster//Event Calendar 2.0//EN
METHOD:PUBLISH
X-PUBLISHED-TTL:P3D
REFRESH-INTERVAL:P3D
CALSCALE:GREGORIAN
BEGIN:VEVENT
DTSTART:20260513T230000Z
DTEND:20260513T233000Z
X-MICROSOFT-CDO-ALLDAYEVENT:FALSE
SUMMARY:Ribbon Cutting for IV Nutrition Gilbert
DESCRIPTION:Join the Chandler and Gilbert Chambers at the Ribbon Cutting for:\n\n\n\nIV Nutrition Gilbert\n\n3757 S Gilbert Rd. Suite 102\n\nGilbert AZ 85297\n\n\n\nIV Nutrition Gilbert provides high-quality IV vitamin therapy designed to support energy\, immunity\, hydration\, and overall wellness. Our experienced team offers customized nutrient infusions tailored to individual needs\, helping clients feel their best and perform at their peak. Located in the East Valley\, we are committed to delivering safe\, science-supported wellness solutions in a comfortable and caring environment.
X-ALT-DESC;FMTTYPE=text/html:Join the Chandler and Gilbert Chambers at the Ribbon Cutting for:<br />\n<br />\n<span style="font-size:16px\;"><strong>IV Nutrition Gilbert<br />\n3757 S Gilbert Rd. Suite 102<br />\nGilbert AZ 85297</strong></span><br />\n<br />\nIV Nutrition Gilbert provides high-quality IV vitamin therapy designed to support energy\, immunity\, hydration\, and overall wellness. Our experienced team offers customized nutrient infusions tailored to individual needs\, helping clients feel their best and perform at their peak. Located in the East Valley\, we are committed to delivering safe\, science-supported wellness solutions in a comfortable and caring environment.&nbsp\;
LOCATION:3757 S Gilbert Rd. Ste 102 Gilbert AZ 85297
UID:e.1561.52326
SEQUENCE:3
DTSTAMP:20260424T013516Z
URL:https://business.chandlerchamber.com/events/details/ribbon-cutting-for-iv-nutrition-gilbert-52326
END:VEVENT

END:VCALENDAR
