BEGIN:VCALENDAR
VERSION:2.0
PRODID:-//ChamberMaster//Event Calendar 2.0//EN
METHOD:PUBLISH
X-PUBLISHED-TTL:P3D
REFRESH-INTERVAL:P3D
CALSCALE:GREGORIAN
BEGIN:VEVENT
DTSTART:20220216T230000Z
DTEND:20220217T000000Z
X-MICROSOFT-CDO-ALLDAYEVENT:FALSE
SUMMARY:Ribbon Cutting for K9 Resorts - Chandler
DESCRIPTION:Join the Chandler Chamber at the Ribbon Cutting for: \n\nK9 Resorts - Chandler\n\n1870 W Germann Rd #100\n\nChandler AZ 85286\n\n\n\nThank You to our Ribbon Sponsor - Laser Creations
X-ALT-DESC;FMTTYPE=text/html:Join the Chandler Chamber at the Ribbon Cutting for:&nbsp\;<br />\n<strong>K9 Resorts - Chandler</strong><br />\n1870 W Germann Rd #100<br />\nChandler AZ 85286<br />\n<br />\n<strong>Thank You to our Ribbon Sponsor - Laser Creations</strong>
LOCATION:K9 Resorts - Chandler 1870 W Germann Rd #100 Chandler AZ 85286
UID:e.1561.40614
SEQUENCE:3
DTSTAMP:20260423T233409Z
URL:https://business.chandlerchamber.com/events/details/ribbon-cutting-for-k9-resorts-chandler-40614
END:VEVENT

END:VCALENDAR
