BEGIN:VCALENDAR
VERSION:2.0
PRODID:-//ChamberMaster//Event Calendar 2.0//EN
METHOD:PUBLISH
X-PUBLISHED-TTL:P3D
REFRESH-INTERVAL:P3D
CALSCALE:GREGORIAN
BEGIN:VEVENT
DTSTART:20171212T230000Z
DTEND:20171213T000000Z
X-MICROSOFT-CDO-ALLDAYEVENT:FALSE
SUMMARY:Ribbon Cutting for Keystone Law Firm
DESCRIPTION:Join the Chandler Chamber at a ribbon cutting for\n\nKeystone Law Firm\n\n*Thank you to our ribbon sponsor Laser Creations*
X-ALT-DESC;FMTTYPE=text/html:Join the Chandler Chamber at a ribbon cutting for<br />\nKeystone Law Firm<br />\n*Thank you to our ribbon sponsor Laser Creations*&nbsp\;&nbsp\;&nbsp\;&nbsp\;&nbsp\;&nbsp\;&nbsp\;&nbsp\;&nbsp\;&nbsp\;&nbsp\;&nbsp\;
LOCATION:2701 W Queen Creek Rd #3 Chandler\, AZ 85248 SW corner Dobson/Queen Creek)
UID:e.1561.19186
SEQUENCE:3
DTSTAMP:20260424T011542Z
URL:https://business.chandlerchamber.com/events/details/ribbon-cutting-for-keystone-law-firm-19186
END:VEVENT

END:VCALENDAR
