BEGIN:VCALENDAR
VERSION:2.0
PRODID:-//ChamberMaster//Event Calendar 2.0//EN
METHOD:PUBLISH
X-PUBLISHED-TTL:P3D
REFRESH-INTERVAL:P3D
CALSCALE:GREGORIAN
BEGIN:VEVENT
DTSTART:20180425T230000Z
DTEND:20180426T000000Z
X-MICROSOFT-CDO-ALLDAYEVENT:FALSE
SUMMARY:Ribbon Cutting for Lenny's Burger
DESCRIPTION:Join the Chandler Chamber at a Ribbon Cutting for Lenny's Burger    \n\n\n\n*Thank you to our Ribbon Sponsor Laser Creations*
X-ALT-DESC;FMTTYPE=text/html:Join the Chandler Chamber at a Ribbon Cutting for Lenny&#39\;s Burger&nbsp\;&nbsp\;&nbsp\;&nbsp\;<br />\n<br />\n*Thank you to our Ribbon Sponsor Laser Creations*&nbsp\;&nbsp\;&nbsp\;&nbsp\;&nbsp\;&nbsp\;&nbsp\;&nbsp\;&nbsp\;&nbsp\;&nbsp\;&nbsp\;
LOCATION:2156 N Alma School Rd Chandler\, AZ 85224 (NW corner Warner/Alma School Rd)
UID:e.1561.33612
SEQUENCE:3
DTSTAMP:20260423T193348Z
URL:https://business.chandlerchamber.com/events/details/ribbon-cutting-for-lenny-s-burger-33612
END:VEVENT

END:VCALENDAR
