BEGIN:VCALENDAR
VERSION:2.0
PRODID:-//ChamberMaster//Event Calendar 2.0//EN
METHOD:PUBLISH
X-PUBLISHED-TTL:P3D
REFRESH-INTERVAL:P3D
CALSCALE:GREGORIAN
BEGIN:VEVENT
DTSTART:20190314T230000Z
DTEND:20190315T000000Z
X-MICROSOFT-CDO-ALLDAYEVENT:FALSE
SUMMARY:Ribbon Cutting for Livinluxx\, LLC
DESCRIPTION:Join the Chandler Chamber for the Ribbon Cutting for:\n\nLivinluxx\, LLC\n\n\n\nThank you to our Ribbon Cutting Sponsor:  Laser Creations
X-ALT-DESC;FMTTYPE=text/html:Join the Chandler Chamber for the Ribbon Cutting for:<br />\nLivinluxx\, LLC<br />\n<br />\nThank you to our Ribbon Cutting Sponsor:&nbsp\; Laser Creations
LOCATION:Livinluxx\, LLC 3305 W Chandler Blvd\, Ste 2 Chandler\, AZ 85226 (N of Chandler Fashion Center on Chandler Blvd\, just west of Price Rd\, behind PF Chang's)
UID:e.1561.36319
SEQUENCE:3
DTSTAMP:20260423T045632Z
URL:https://business.chandlerchamber.com/events/details/ribbon-cutting-for-livinluxx-llc-36319
END:VEVENT

END:VCALENDAR
