BEGIN:VCALENDAR
VERSION:2.0
PRODID:-//ChamberMaster//Event Calendar 2.0//EN
METHOD:PUBLISH
X-PUBLISHED-TTL:P3D
REFRESH-INTERVAL:P3D
CALSCALE:GREGORIAN
BEGIN:VEVENT
DTSTART:20220425T220000Z
DTEND:20220425T230000Z
X-MICROSOFT-CDO-ALLDAYEVENT:FALSE
SUMMARY:Ribbon Cutting for Lou Malnati's Pizzeria
DESCRIPTION:Join the Chandler Chamber at the Ribbon Cutting for:\n\nLou Malnati's Pizzeria\n\n2815 S Alma School Rd\, Suite 15\n\nChandler AZ 85286\n\n\n\nThank you to our Ribbon Sponsor -- Laser Creations
X-ALT-DESC;FMTTYPE=text/html:Join the Chandler Chamber at the Ribbon Cutting for:<br />\n<strong><span style="font-size:14px\;">Lou Malnati&#39\;s Pizzeria<br />\n2815 S Alma School Rd\, Suite 15<br />\nChandler AZ 85286</span></strong><br />\n<br />\n<strong>Thank you to our Ribbon Sponsor -- Laser Creations&nbsp\;&nbsp\;&nbsp\;&nbsp\;</strong>
LOCATION:2815 S Alma School Rd\, Suite 15 Chandler AZ 85286
UID:e.1561.40662
SEQUENCE:3
DTSTAMP:20260423T222225Z
URL:https://business.chandlerchamber.com/events/details/ribbon-cutting-for-lou-malnati-s-pizzeria-40662
END:VEVENT

END:VCALENDAR
