BEGIN:VCALENDAR
VERSION:2.0
PRODID:-//ChamberMaster//Event Calendar 2.0//EN
METHOD:PUBLISH
X-PUBLISHED-TTL:P3D
REFRESH-INTERVAL:P3D
CALSCALE:GREGORIAN
BEGIN:VEVENT
DTSTART:20171020T230000Z
DTEND:20171021T000000Z
X-MICROSOFT-CDO-ALLDAYEVENT:FALSE
SUMMARY:Ribbon Cutting for MassageLuxe
DESCRIPTION:Join the Chandler Chamber for a ribbon cutting at MassageLuxe\n\n*Thank you to our ribbon sponsor Laser Creations*
X-ALT-DESC;FMTTYPE=text/html:Join the Chandler Chamber for a ribbon cutting at MassageLuxe<br />\n*Thank you to our ribbon sponsor Laser Creations*
LOCATION:2975 E Ocotillo Rd #13 Chandler\, AZ 85249 (SW corner Ocotillo/Gilbert Rd in Fry's Shopping Plaza)
UID:e.1561.19155
SEQUENCE:3
DTSTAMP:20260424T050941Z
URL:https://business.chandlerchamber.com/events/details/ribbon-cutting-for-massageluxe-19155
END:VEVENT

END:VCALENDAR
