BEGIN:VCALENDAR
VERSION:2.0
PRODID:-//ChamberMaster//Event Calendar 2.0//EN
METHOD:PUBLISH
X-PUBLISHED-TTL:P3D
REFRESH-INTERVAL:P3D
CALSCALE:GREGORIAN
BEGIN:VEVENT
DTSTART:20170614T230000Z
DTEND:20170615T000000Z
X-MICROSOFT-CDO-ALLDAYEVENT:FALSE
SUMMARY:Ribbon Cutting for Meridiem Kitchen & Lounge
DESCRIPTION:Join the Chandler Chamber of Commerce for a Ribbon Cutting at \n\nMeridiem Kitchen & Lounge\n\n*Thank you to our Ribbon Sponsor - Laser Creations
X-ALT-DESC;FMTTYPE=text/html:<br />\nJoin the Chandler Chamber of Commerce for a Ribbon Cutting at&nbsp\;<br />\nMeridiem Kitchen &amp\; Lounge<br />\n*Thank you to our Ribbon Sponsor - Laser Creations
LOCATION:1245 S Price Rd #1 Chandler AZ 85286 (Price Rd & Spectrum Blvd\; across from PayPal)
UID:e.1561.19068
SEQUENCE:3
DTSTAMP:20260424T093204Z
URL:https://business.chandlerchamber.com/events/details/ribbon-cutting-for-meridiem-kitchen-lounge-19068
END:VEVENT

END:VCALENDAR
