BEGIN:VCALENDAR
VERSION:2.0
PRODID:-//ChamberMaster//Event Calendar 2.0//EN
METHOD:PUBLISH
X-PUBLISHED-TTL:P3D
REFRESH-INTERVAL:P3D
CALSCALE:GREGORIAN
BEGIN:VEVENT
DTSTART:20190411T230000Z
DTEND:20190412T000000Z
X-MICROSOFT-CDO-ALLDAYEVENT:FALSE
SUMMARY:Ribbon Cutting for Mingle + Graze
DESCRIPTION:Join the Chandler Chamber for a ribbon cutting for Mingle + Graze. \n\n\n\nThank you to our Ribbon Sponsor Laser Creations
X-ALT-DESC;FMTTYPE=text/html:Join the Chandler Chamber for a ribbon cutting for Mingle + Graze.&nbsp\;<br />\n<br />\nThank you to our Ribbon Sponsor Laser Creations
LOCATION:Mingle + Graze 48 S San Marcos Pl Chandler\, AZ. 85225 (Downtown Chandler- between Commonwealth Ave and Boston St.off of Arizona Ave.)
UID:e.1561.36616
SEQUENCE:3
DTSTAMP:20260423T033110Z
URL:https://business.chandlerchamber.com/events/details/ribbon-cutting-for-mingle-graze-36616
END:VEVENT

END:VCALENDAR
