BEGIN:VCALENDAR
VERSION:2.0
PRODID:-//ChamberMaster//Event Calendar 2.0//EN
METHOD:PUBLISH
X-PUBLISHED-TTL:P3D
REFRESH-INTERVAL:P3D
CALSCALE:GREGORIAN
BEGIN:VEVENT
DTSTART:20170907T230000Z
DTEND:20170908T000000Z
X-MICROSOFT-CDO-ALLDAYEVENT:FALSE
SUMMARY:Ribbon Cutting for Mix Cooking School
DESCRIPTION:Join the Chandler Chamber for a ribbon cutting at Mix Cooking School    \n\nThank you to our ribbon sponsor Laser Creations
X-ALT-DESC;FMTTYPE=text/html:Join the Chandler Chamber for a ribbon cutting at Mix Cooking School&nbsp\;&nbsp\;&nbsp\;&nbsp\;<br />\nThank you to our ribbon sponsor Laser Creations
LOCATION:4995 S Alma School Rd #6 Chandler AZ 85248 NE corner Chandler Heights/Alma School by Medmetrics
UID:e.1561.19135
SEQUENCE:3
DTSTAMP:20260424T063955Z
URL:https://business.chandlerchamber.com/events/details/ribbon-cutting-for-mix-cooking-school-19135
END:VEVENT

END:VCALENDAR
