BEGIN:VCALENDAR
VERSION:2.0
PRODID:-//ChamberMaster//Event Calendar 2.0//EN
METHOD:PUBLISH
X-PUBLISHED-TTL:P3D
REFRESH-INTERVAL:P3D
CALSCALE:GREGORIAN
BEGIN:VEVENT
DTSTART:20210604T000000Z
DTEND:20210604T010000Z
X-MICROSOFT-CDO-ALLDAYEVENT:FALSE
SUMMARY:Ribbon Cutting for Modern Chiropractic AZ
DESCRIPTION:Join the Chandler Chamber at the Ribbon Cutting for\n\nModern Chiropractic AZ\n\nRibbon Cut @ 5:30pm\n\n\n\nThank you to our Ribbon Sponsor Laser Creations
X-ALT-DESC;FMTTYPE=text/html:Join the Chandler Chamber at the Ribbon Cutting for<br />\nModern Chiropractic AZ<br />\nRibbon Cut @ 5:30pm<br />\n<br />\nThank you to our Ribbon Sponsor Laser Creations
LOCATION:670 N 54th St #1 Chandler AZ 85226 (This is a joint ribbon cutting with the Ahwatukee Chamber)
UID:e.1561.39944
SEQUENCE:3
DTSTAMP:20260424T135238Z
URL:https://business.chandlerchamber.com/events/details/ribbon-cutting-for-modern-chiropractic-az-39944
END:VEVENT

END:VCALENDAR
