BEGIN:VCALENDAR
VERSION:2.0
PRODID:-//ChamberMaster//Event Calendar 2.0//EN
METHOD:PUBLISH
X-PUBLISHED-TTL:P3D
REFRESH-INTERVAL:P3D
CALSCALE:GREGORIAN
BEGIN:VEVENT
DTSTART:20200305T230000Z
DTEND:20200306T000000Z
X-MICROSOFT-CDO-ALLDAYEVENT:FALSE
SUMMARY:Ribbon Cutting for More Than A Groomer
DESCRIPTION:Join the Chandler Chamber for the Ribbon Cutting celebrating their 5 year anniversary for \n\nMore Than A Groomer\n\n\n\n*Thank you to our Ribbon Sponsor -- Laser Creations*
X-ALT-DESC;FMTTYPE=text/html:Join the Chandler Chamber for the Ribbon Cutting celebrating their 5 year anniversary for&nbsp\;<br />\nMore Than A Groomer<br />\n<br />\n*Thank you to our Ribbon Sponsor -- Laser Creations*<br />\n&nbsp\;
LOCATION:4960 S Alma School Rd #21 Chandler AZ 85248 (NW corner Alma School/Chandler Heights)
UID:e.1561.38903
SEQUENCE:3
DTSTAMP:20260424T163424Z
URL:https://business.chandlerchamber.com/events/details/ribbon-cutting-for-more-than-a-groomer-38903
END:VEVENT

END:VCALENDAR
