BEGIN:VCALENDAR
VERSION:2.0
PRODID:-//ChamberMaster//Event Calendar 2.0//EN
METHOD:PUBLISH
X-PUBLISHED-TTL:P3D
REFRESH-INTERVAL:P3D
CALSCALE:GREGORIAN
BEGIN:VEVENT
DTSTART:20180816T170000Z
DTEND:20180816T180000Z
X-MICROSOFT-CDO-ALLDAYEVENT:FALSE
SUMMARY:Ribbon Cutting for Navy Federal C. U.
DESCRIPTION:Join the Chandler Chamber at the ribbon cutting for Navy Federal Credit Union\n\n\n\n"Thank you to our ribbon sponsor Laser Creations"
X-ALT-DESC;FMTTYPE=text/html:Join the Chandler Chamber at the ribbon cutting for Navy Federal Credit Union<br />\n<br />\n&quot\;Thank you to our ribbon sponsor Laser Creations&quot\;
LOCATION:3675 W. Chandler Blvd Chandler\, AZ 85226 (Chandler Blvd\, west of 101- Next to Dutch Bros)
UID:e.1561.33718
SEQUENCE:3
DTSTAMP:20260423T135841Z
URL:https://business.chandlerchamber.com/events/details/ribbon-cutting-for-navy-federal-c-u-33718
END:VEVENT

END:VCALENDAR
