BEGIN:VCALENDAR
VERSION:2.0
PRODID:-//ChamberMaster//Event Calendar 2.0//EN
METHOD:PUBLISH
X-PUBLISHED-TTL:P3D
REFRESH-INTERVAL:P3D
CALSCALE:GREGORIAN
BEGIN:VEVENT
DTSTART:20171018T230000Z
DTEND:20171019T000000Z
X-MICROSOFT-CDO-ALLDAYEVENT:FALSE
SUMMARY:Ribbon Cutting for Nekter Juice Bar
DESCRIPTION:Join the Chandler Chamber at the ribbon cutting for Nekter Juice Bar\n\n*Thank you to our ribbon sponsor Laser Creations*
X-ALT-DESC;FMTTYPE=text/html:Join the Chandler Chamber at the ribbon cutting for Nekter Juice Bar<br />\n*Thank you to our ribbon sponsor Laser Creations*
LOCATION:4041 S Gilbert Rd #102 Chandler\, AZ 85249 (SE corner Gilbert Rd/Ocotillo in the Sprout's Shopping Plaza)
UID:e.1561.19145
SEQUENCE:3
DTSTAMP:20260424T035226Z
URL:https://business.chandlerchamber.com/events/details/ribbon-cutting-for-nekter-juice-bar-19145
END:VEVENT

END:VCALENDAR
