BEGIN:VCALENDAR
VERSION:2.0
PRODID:-//ChamberMaster//Event Calendar 2.0//EN
METHOD:PUBLISH
X-PUBLISHED-TTL:P3D
REFRESH-INTERVAL:P3D
CALSCALE:GREGORIAN
BEGIN:VEVENT
DTSTART:20170616T223000Z
DTEND:20170616T233000Z
X-MICROSOFT-CDO-ALLDAYEVENT:FALSE
SUMMARY:Ribbon Cutting for NextCare @ Ocotillo
DESCRIPTION:Join the Chandler Chamber at a Ribbon Cutting for NextCare @ Ocotillo\n\n*Thank you to our Ribbon sponsor Laser Creations
X-ALT-DESC;FMTTYPE=text/html:Join the Chandler Chamber at a Ribbon Cutting for NextCare&nbsp\;@ Ocotillo<br />\n*Thank you to our Ribbon sponsor Laser Creations<br />\n&nbsp\;
LOCATION:NextCare @ Ocotillo 1155 W Ocotillo Rd #4 Chandler\, AZ 85248 SW corner Ocotillo/Alma School Rd
UID:e.1561.19070
SEQUENCE:3
DTSTAMP:20260424T105919Z
URL:https://business.chandlerchamber.com/events/details/ribbon-cutting-for-nextcare-ocotillo-19070
END:VEVENT

END:VCALENDAR
