BEGIN:VCALENDAR
VERSION:2.0
PRODID:-//ChamberMaster//Event Calendar 2.0//EN
METHOD:PUBLISH
X-PUBLISHED-TTL:P3D
REFRESH-INTERVAL:P3D
CALSCALE:GREGORIAN
BEGIN:VEVENT
DTSTART:20190501T230000Z
DTEND:20190502T000000Z
X-MICROSOFT-CDO-ALLDAYEVENT:FALSE
SUMMARY:Ribbon Cutting for Ocotillo Dermatology\, PLLC
DESCRIPTION:Join the Chandler Chamber at the Ribbon Cutting for Ocotillo Dermatology\, PLLC\n\n\n\nThank you to our Ribbon Sponsor Laser Creations
X-ALT-DESC;FMTTYPE=text/html:Join the Chandler Chamber at the Ribbon Cutting for Ocotillo Dermatology\, PLLC<br />\n<br />\nThank you to our Ribbon Sponsor Laser Creations
LOCATION:Ocotillo Dermatology\, PLLC 3930 S Alma School Rd #8 Chandler AZ 85248 (NW corner Alma School/Ocotillo Rd)
UID:e.1561.36628
SEQUENCE:3
DTSTAMP:20260423T021115Z
URL:https://business.chandlerchamber.com/events/details/ribbon-cutting-for-ocotillo-dermatology-pllc-36628
END:VEVENT

END:VCALENDAR
