BEGIN:VCALENDAR
VERSION:2.0
PRODID:-//ChamberMaster//Event Calendar 2.0//EN
METHOD:PUBLISH
X-PUBLISHED-TTL:P3D
REFRESH-INTERVAL:P3D
CALSCALE:GREGORIAN
BEGIN:VEVENT
DTSTART:20171111T010000Z
DTEND:20171111T040000Z
X-MICROSOFT-CDO-ALLDAYEVENT:FALSE
SUMMARY:Ribbon Cutting for Ocotillo Golf Resort
DESCRIPTION:Join the Chandler Chamber for a Ribbon Cutting at\n\nThe Ocotillo Golf Resort\n\nRibbon Cutting at 7:00pm\n\n*Thank you to our ribbon sponsor Laser Creations*
X-ALT-DESC;FMTTYPE=text/html:Join the Chandler Chamber for a Ribbon Cutting at<br />\nThe Ocotillo Golf Resort<br />\nRibbon Cutting at 7:00pm<br />\n*Thank you to our ribbon sponsor Laser Creations*&nbsp\;&nbsp\;&nbsp\;&nbsp\;&nbsp\;&nbsp\;&nbsp\;&nbsp\;&nbsp\;&nbsp\;&nbsp\;&nbsp\;
LOCATION:3751 S Clubhouse Dr Chandler\, AZ 85248
UID:e.1561.19205
SEQUENCE:3
DTSTAMP:20260424T034623Z
URL:https://business.chandlerchamber.com/events/details/ribbon-cutting-for-ocotillo-golf-resort-19205
END:VEVENT

END:VCALENDAR
