BEGIN:VCALENDAR
VERSION:2.0
PRODID:-//ChamberMaster//Event Calendar 2.0//EN
METHOD:PUBLISH
X-PUBLISHED-TTL:P3D
REFRESH-INTERVAL:P3D
CALSCALE:GREGORIAN
BEGIN:VEVENT
DTSTART:20180510T230000Z
DTEND:20180511T000000Z
X-MICROSOFT-CDO-ALLDAYEVENT:FALSE
SUMMARY:Ribbon Cutting for Office Evolution
DESCRIPTION:Join the Chandler Chamber at a ribbon cutting for Office Evolution!\n\n*Thank you to our ribbon sponsor Laser Creations*
X-ALT-DESC;FMTTYPE=text/html:Join the Chandler Chamber at a ribbon cutting for Office Evolution!<br />\n*Thank you to our ribbon sponsor Laser Creations*
LOCATION:Office Evolution 4435 E. Chandler Blvd.\, Ste 200 Phoenix AZ 85048 Between 44th and 46th Street
UID:e.1561.32603
SEQUENCE:3
DTSTAMP:20260423T180615Z
URL:https://business.chandlerchamber.com/events/details/ribbon-cutting-for-office-evolution-32603
END:VEVENT

END:VCALENDAR
