BEGIN:VCALENDAR
VERSION:2.0
PRODID:-//ChamberMaster//Event Calendar 2.0//EN
METHOD:PUBLISH
X-PUBLISHED-TTL:P3D
REFRESH-INTERVAL:P3D
CALSCALE:GREGORIAN
BEGIN:VEVENT
DTSTART:20171110T230000Z
DTEND:20171111T000000Z
X-MICROSOFT-CDO-ALLDAYEVENT:FALSE
SUMMARY:Ribbon Cutting for Pennington Garden's
DESCRIPTION:Join the Chandler Chamber of Commerce at a ribbon cutting for Pennington Garden's
X-ALT-DESC;FMTTYPE=text/html:Join the Chandler Chamber of Commerce at a ribbon cutting for Pennington Garden&#39\;s
LOCATION:977 S. Pennington Drive Chandler\, AZ. 85224
UID:e.1561.19172
SEQUENCE:3
DTSTAMP:20260424T022407Z
URL:https://business.chandlerchamber.com/events/details/ribbon-cutting-for-pennington-garden-s-19172
END:VEVENT

END:VCALENDAR
