BEGIN:VCALENDAR
VERSION:2.0
PRODID:-//ChamberMaster//Event Calendar 2.0//EN
METHOD:PUBLISH
X-PUBLISHED-TTL:P3D
REFRESH-INTERVAL:P3D
CALSCALE:GREGORIAN
BEGIN:VEVENT
DTSTART:20220429T230000Z
DTEND:20220430T000000Z
X-MICROSOFT-CDO-ALLDAYEVENT:FALSE
SUMMARY:Ribbon Cutting for Pickleball Kingdom
DESCRIPTION:Join the Chandler Chamber at the Ribbon Cutting for -\n\nPickleball Kingdom\n\n4950 W Ray Rd\n\nChandler AZ 85226\n\n\n\nDress comfortably an be prepared to have some fun on the courts playing pickleball!  Wear sneakers!\n\n\n\nThank you to our Ribbon Sponsor Laser Creations!
X-ALT-DESC;FMTTYPE=text/html:<span style="font-size:18px\;">Join the Chandler Chamber at the Ribbon Cutting for -<br />\n<strong>Pickleball Kingdom</strong><br />\n4950 W Ray Rd<br />\nChandler AZ 85226</span><br />\n<br />\nDress comfortably an be prepared to have some fun on the courts playing pickleball!&nbsp\; Wear sneakers!<br />\n<br />\n<strong>Thank you to our Ribbon Sponsor Laser Creations!</strong>
LOCATION:Pickleball Kingdom 4950 W Ray Rd Chandler AZ 85226 Please wear comfortable clothes and sneakers to play pickleball in!
UID:e.1561.40660
SEQUENCE:3
DTSTAMP:20260423T222003Z
URL:https://business.chandlerchamber.com/events/details/ribbon-cutting-for-pickleball-kingdom-40660
END:VEVENT

END:VCALENDAR
