BEGIN:VCALENDAR
VERSION:2.0
PRODID:-//ChamberMaster//Event Calendar 2.0//EN
METHOD:PUBLISH
X-PUBLISHED-TTL:P3D
REFRESH-INTERVAL:P3D
CALSCALE:GREGORIAN
BEGIN:VEVENT
DTSTART:20180412T224500Z
DTEND:20180413T000000Z
X-MICROSOFT-CDO-ALLDAYEVENT:FALSE
SUMMARY:Ribbon Cutting for Pioneer Title Agency
DESCRIPTION:Join the Chandler Chamber for a ribbon cutting at:\n\nPioneer Title Agency\n\n\n\n*Thank you to our ribbon sponsor Laser Creations*
X-ALT-DESC;FMTTYPE=text/html:Join the Chandler Chamber for a ribbon cutting at:<br />\nPioneer Title Agency<br />\n<br />\n*Thank you to our ribbon sponsor Laser Creations*
LOCATION:3110 W Ray Rd #116 Chandler\, AZ 85286 (just west of Price Rd)
UID:e.1561.32575
SEQUENCE:3
DTSTAMP:20260423T193750Z
URL:https://business.chandlerchamber.com/events/details/ribbon-cutting-for-pioneer-title-agency-32575
END:VEVENT

END:VCALENDAR
