BEGIN:VCALENDAR
VERSION:2.0
PRODID:-//ChamberMaster//Event Calendar 2.0//EN
METHOD:PUBLISH
X-PUBLISHED-TTL:P3D
REFRESH-INTERVAL:P3D
CALSCALE:GREGORIAN
BEGIN:VEVENT
DTSTART:20190717T230000Z
DTEND:20190718T000000Z
X-MICROSOFT-CDO-ALLDAYEVENT:FALSE
SUMMARY:Ribbon Cutting for Psychology Specialists
DESCRIPTION:Join the Chandler Chamber at the Ribbon Cutting for Psychology Specialists\n\n\n\nThank you to our Ribbon Cutting Sponsor Laser Creations
X-ALT-DESC;FMTTYPE=text/html:Join the Chandler Chamber at the Ribbon Cutting for&nbsp\;Psychology Specialists<br />\n<br />\nThank you to our Ribbon Cutting Sponsor Laser Creations
LOCATION:Psychology Specialists 1600 W Chandler Blvd\, Ste 110 Chandler\, AZ 85224 (Btwn Dobson/Alma School\, N side of Chandler Blvd)
UID:e.1561.36648
SEQUENCE:3
DTSTAMP:20260422T230847Z
URL:https://business.chandlerchamber.com/events/details/ribbon-cutting-for-psychology-specialists-36648
END:VEVENT

END:VCALENDAR
