BEGIN:VCALENDAR
VERSION:2.0
PRODID:-//ChamberMaster//Event Calendar 2.0//EN
METHOD:PUBLISH
X-PUBLISHED-TTL:P3D
REFRESH-INTERVAL:P3D
CALSCALE:GREGORIAN
BEGIN:VEVENT
DTSTART:20180511T230000Z
DTEND:20180512T000000Z
X-MICROSOFT-CDO-ALLDAYEVENT:FALSE
SUMMARY:Ribbon Cutting for QuartHaus
DESCRIPTION:Join the Chandler Chamber at the Ribbon Cutting for\n\nQuartHaus\n\n \n\n*Thank you to our ribbon sponsor Laser Creations*
X-ALT-DESC;FMTTYPE=text/html:Join the Chandler Chamber at the Ribbon Cutting for<br />\nQuartHaus<br />\n&#8203\;<br />\n*Thank you to our ribbon sponsor Laser Creations*
LOCATION:201 S Washington St Chandler\, AZ 85225 (SE corner Washington & Chicago)
UID:e.1561.33665
SEQUENCE:3
DTSTAMP:20260423T180758Z
URL:https://business.chandlerchamber.com/events/details/ribbon-cutting-for-quarthaus-33665
END:VEVENT

END:VCALENDAR
