BEGIN:VCALENDAR
VERSION:2.0
PRODID:-//ChamberMaster//Event Calendar 2.0//EN
METHOD:PUBLISH
X-PUBLISHED-TTL:P3D
REFRESH-INTERVAL:P3D
CALSCALE:GREGORIAN
BEGIN:VEVENT
DTSTART:20171103T230000Z
DTEND:20171104T000000Z
X-MICROSOFT-CDO-ALLDAYEVENT:FALSE
SUMMARY:Ribbon Cutting for Rita's of Chandler
DESCRIPTION:Join the Chandler Chamber at a ribbon cutting for Rita's of Chandler\n\n*Thank you to our ribbon sponsor Laser Creations*
X-ALT-DESC;FMTTYPE=text/html:Join the Chandler Chamber at a ribbon cutting for Rita&#39\;s of Chandler<br />\n*Thank you to our ribbon sponsor Laser Creations*
LOCATION:2975 E Ocotillo Rd #6 Chandler\, AZ 85249 (SW corner Gilbert Rd/Ocotillo in the Fry's Shopping Plaza)
UID:e.1561.19171
SEQUENCE:3
DTSTAMP:20260424T022546Z
URL:https://business.chandlerchamber.com/events/details/ribbon-cutting-for-rita-s-of-chandler-19171
END:VEVENT

END:VCALENDAR
