BEGIN:VCALENDAR
VERSION:2.0
PRODID:-//ChamberMaster//Event Calendar 2.0//EN
METHOD:PUBLISH
X-PUBLISHED-TTL:P3D
REFRESH-INTERVAL:P3D
CALSCALE:GREGORIAN
BEGIN:VEVENT
DTSTART:20190628T230000Z
DTEND:20190629T000000Z
X-MICROSOFT-CDO-ALLDAYEVENT:FALSE
SUMMARY:Ribbon Cutting for Santan Brewing Tasting Room
DESCRIPTION:Join the Chandler Chamber for the Ribbon Cutting for \n\nSantan Brewing Tasting Room\n\n\n\nThank you to our ribbon sponsor Laser Creations
X-ALT-DESC;FMTTYPE=text/html:Join the Chandler Chamber for the Ribbon Cutting for&nbsp\;<br />\nSantan Brewing Tasting Room<br />\n<br />\nThank you to our ribbon sponsor Laser Creations&nbsp\;&nbsp\;&nbsp\;&nbsp\;
LOCATION:Santan Brewing Co. 8 S San Marcos Pl Chandler AZ 85225
UID:e.1561.36738
SEQUENCE:3
DTSTAMP:20260423T004032Z
URL:https://business.chandlerchamber.com/events/details/ribbon-cutting-for-santan-brewing-tasting-room-36738
END:VEVENT

END:VCALENDAR
