BEGIN:VCALENDAR
VERSION:2.0
PRODID:-//ChamberMaster//Event Calendar 2.0//EN
METHOD:PUBLISH
X-PUBLISHED-TTL:P3D
REFRESH-INTERVAL:P3D
CALSCALE:GREGORIAN
BEGIN:VEVENT
DTSTART:20180726T230000Z
DTEND:20180727T000000Z
X-MICROSOFT-CDO-ALLDAYEVENT:FALSE
SUMMARY:Ribbon Cutting for Service First Insurance
DESCRIPTION:Join the Chandler Chamber at the Ribbon Cutting for\n\nService First Insurance\n\n\n\n*Thank you to our Ribbon Sponsor Laser Creations*
X-ALT-DESC;FMTTYPE=text/html:Join the Chandler Chamber at the Ribbon Cutting for<br />\nService First Insurance<br />\n<br />\n*Thank you to our Ribbon Sponsor Laser Creations*&nbsp\;&nbsp\;&nbsp\;&nbsp\;&nbsp\;&nbsp\;&nbsp\;&nbsp\;&nbsp\;&nbsp\;&nbsp\;&nbsp\;
LOCATION:283 N Arizona Ave #2 Chandler AZ 85225 (between Chandler Blvd and Detroit St)
UID:e.1561.33700
SEQUENCE:3
DTSTAMP:20260423T150852Z
URL:https://business.chandlerchamber.com/events/details/ribbon-cutting-for-service-first-insurance-33700
END:VEVENT

END:VCALENDAR
