BEGIN:VCALENDAR
VERSION:2.0
PRODID:-//ChamberMaster//Event Calendar 2.0//EN
METHOD:PUBLISH
X-PUBLISHED-TTL:P3D
REFRESH-INTERVAL:P3D
CALSCALE:GREGORIAN
BEGIN:VEVENT
DTSTART:20180725T230000Z
DTEND:20180726T000000Z
X-MICROSOFT-CDO-ALLDAYEVENT:FALSE
SUMMARY:Ribbon cutting for SEVRAR & The Avion Center
DESCRIPTION:Join the Chandler Chamber at a joint Ribbon Cutting Celebration for\n\nSEVRAR & The Avion Center\n\n\n\n*Thank you to our Ribbon Sponsor Laser Creations*
X-ALT-DESC;FMTTYPE=text/html:Join the Chandler Chamber at a joint Ribbon Cutting Celebration for<br />\nSEVRAR &amp\; The Avion Center<br />\n<br />\n*Thank you to our Ribbon Sponsor Laser Creations*
LOCATION:1733 E Northrop Blvd Chandler AZ 85286 (off Cooper Rd\, south of 202)
UID:e.1561.33689
SEQUENCE:3
DTSTAMP:20260423T151500Z
URL:https://business.chandlerchamber.com/events/details/ribbon-cutting-for-sevrar-the-avion-center-33689
END:VEVENT

END:VCALENDAR
