BEGIN:VCALENDAR
VERSION:2.0
PRODID:-//ChamberMaster//Event Calendar 2.0//EN
METHOD:PUBLISH
X-PUBLISHED-TTL:P3D
REFRESH-INTERVAL:P3D
CALSCALE:GREGORIAN
BEGIN:VEVENT
DTSTART:20171102T230000Z
DTEND:20171103T000000Z
X-MICROSOFT-CDO-ALLDAYEVENT:FALSE
SUMMARY:Ribbon Cutting for Signarama Chandler
DESCRIPTION:Join the Chandler Chamber at a ribbon cutting for Signarama's 20th anniversary!\n\n*Thank you to our ribbon sponsor Laser Creations*
X-ALT-DESC;FMTTYPE=text/html:Join the Chandler Chamber at a ribbon cutting for Signarama&#39\;s 20th&nbsp\;anniversary!<br />\n*Thank you to our ribbon sponsor Laser Creations*
LOCATION:3400 N. Arizona Avenue #117 Chandler\, AZ 85225
UID:e.1561.19190
SEQUENCE:3
DTSTAMP:20260424T022405Z
URL:https://business.chandlerchamber.com/events/details/ribbon-cutting-for-signarama-chandler-19190
END:VEVENT

END:VCALENDAR
