BEGIN:VCALENDAR
VERSION:2.0
PRODID:-//ChamberMaster//Event Calendar 2.0//EN
METHOD:PUBLISH
X-PUBLISHED-TTL:P3D
REFRESH-INTERVAL:P3D
CALSCALE:GREGORIAN
BEGIN:VEVENT
DTSTART:20190327T230000Z
DTEND:20190328T000000Z
X-MICROSOFT-CDO-ALLDAYEVENT:FALSE
SUMMARY:Ribbon Cutting for Signarama Chandler
DESCRIPTION:Join the Chandler Chamber for the ribbon cutting at Signarama Chandler  \n\n\n\nThank you to our Ribbon Sponsor Laser Creations
X-ALT-DESC;FMTTYPE=text/html:Join the Chandler Chamber for the ribbon cutting at Signarama Chandler&nbsp\;&nbsp\;<br />\n<br />\nThank you to our Ribbon Sponsor Laser Creations
LOCATION:Signarama Chandler 3144 N. Colorado St. Chandler\, AZ 85225 Located on Arizona Ave\, 1/4 mile north of Elliot Road on the West side of the street
UID:e.1561.36290
SEQUENCE:3
DTSTAMP:20260423T045738Z
URL:https://business.chandlerchamber.com/events/details/ribbon-cutting-for-signarama-chandler-36290
END:VEVENT

END:VCALENDAR
