BEGIN:VCALENDAR
VERSION:2.0
PRODID:-//ChamberMaster//Event Calendar 2.0//EN
METHOD:PUBLISH
X-PUBLISHED-TTL:P3D
REFRESH-INTERVAL:P3D
CALSCALE:GREGORIAN
BEGIN:VEVENT
DTSTART:20190611T230000Z
DTEND:20190612T000000Z
X-MICROSOFT-CDO-ALLDAYEVENT:FALSE
SUMMARY:Ribbon Cutting for St. Amand Kitchen & Cocktails
DESCRIPTION:Join the Chandler Chamber at the Ribbon Cutting for\n\nSt. Amand Kitchen & Cocktails\n\n\n\n*Thank you to our ribbon sponsor Laser Creations*
X-ALT-DESC;FMTTYPE=text/html:Join the Chandler Chamber at the Ribbon Cutting for<br />\nSt. Amand Kitchen &amp\; Cocktails<br />\n<br />\n*Thank you to our ribbon sponsor Laser Creations*&nbsp\;&nbsp\;&nbsp\;&nbsp\;&nbsp\;&nbsp\;&nbsp\;&nbsp\;
LOCATION:3990 S Alma School Rd #3 Chandler AZ 85248 (NW corner Alma School/Ocotillo)
UID:e.1561.36717
SEQUENCE:3
DTSTAMP:20260423T004028Z
URL:https://business.chandlerchamber.com/events/details/ribbon-cutting-for-st-amand-kitchen-cocktails-36717
END:VEVENT

END:VCALENDAR
