BEGIN:VCALENDAR
VERSION:2.0
PRODID:-//ChamberMaster//Event Calendar 2.0//EN
METHOD:PUBLISH
X-PUBLISHED-TTL:P3D
REFRESH-INTERVAL:P3D
CALSCALE:GREGORIAN
BEGIN:VEVENT
DTSTART:20180828T230000Z
DTEND:20180829T000000Z
X-MICROSOFT-CDO-ALLDAYEVENT:FALSE
SUMMARY:Ribbon Cutting for Strive Physical Therapy
DESCRIPTION:Join the Chandler Chamber at the Ribbon Cutting for\n\nStrive Physical Therapy    \n\n\n\n*Thank you to our Ribbon Sponsor Laser Creations*
X-ALT-DESC;FMTTYPE=text/html:Join the Chandler Chamber at the Ribbon Cutting for<br />\nStrive Physical Therapy&nbsp\;&nbsp\;&nbsp\;&nbsp\;<br />\n<br />\n*Thank you to our Ribbon Sponsor Laser Creations*
LOCATION:4920 S Gilbert Rd #A4 Chandler\, AZ 85249 (NW corner Chandler Heights/Gilbert Rd in the Basha Center)
UID:e.1561.34144
SEQUENCE:3
DTSTAMP:20260423T135435Z
URL:https://business.chandlerchamber.com/events/details/ribbon-cutting-for-strive-physical-therapy-34144
END:VEVENT

END:VCALENDAR
