BEGIN:VCALENDAR
VERSION:2.0
PRODID:-//ChamberMaster//Event Calendar 2.0//EN
METHOD:PUBLISH
X-PUBLISHED-TTL:P3D
REFRESH-INTERVAL:P3D
CALSCALE:GREGORIAN
BEGIN:VEVENT
DTSTART:20180519T170000Z
DTEND:20180519T180000Z
X-MICROSOFT-CDO-ALLDAYEVENT:FALSE
SUMMARY:Ribbon Cutting for Swingin' Safari Mini Golf\, LLC
DESCRIPTION:Join the Chandler Chamber for a ribbon cutting/grand opening at\n\nSwingin' Safari Mini Golf\, LLC\n\n\n\n*Thank you to our ribbon sponsor Laser Creations*
X-ALT-DESC;FMTTYPE=text/html:Join the Chandler Chamber for a ribbon cutting/grand opening at<br />\nSwingin&#39\; Safari Mini Golf\, LLC<br />\n<br />\n*Thank you to our ribbon sponsor Laser Creations*<br />\n&nbsp\;
LOCATION:3875 W Ray Rd #8 Chandler\, AZ 85226 (SE corner McClintock/Ray)
UID:e.1561.33638
SEQUENCE:3
DTSTAMP:20260423T193558Z
URL:https://business.chandlerchamber.com/events/details/ribbon-cutting-for-swingin-safari-mini-golf-llc-33638
END:VEVENT

END:VCALENDAR
