BEGIN:VCALENDAR
VERSION:2.0
PRODID:-//ChamberMaster//Event Calendar 2.0//EN
METHOD:PUBLISH
X-PUBLISHED-TTL:P3D
REFRESH-INTERVAL:P3D
CALSCALE:GREGORIAN
BEGIN:VEVENT
DTSTART:20180504T230000Z
DTEND:20180505T000000Z
X-MICROSOFT-CDO-ALLDAYEVENT:FALSE
SUMMARY:Ribbon Cutting for Templeton Group at Stunning Homes Realty
DESCRIPTION:Join the Chandler Chamber for a Ribbon Cutting at Templeton Group at Stunning Homes Realty   \n\n\n\n*Thank you to our Ribbon Sponsor Laser Creations*
X-ALT-DESC;FMTTYPE=text/html:Join the Chandler Chamber for a Ribbon Cutting at Templeton Group at Stunning Homes Realty&nbsp\;&nbsp\;&nbsp\;<br />\n<br />\n*Thank you to our Ribbon Sponsor Laser Creations*&nbsp\; &nbsp\; &nbsp\; &nbsp\;
LOCATION:348 W. Chandler Blvd.\, Ste 2 Chandler AZ 85225 West of Arizona Avenue
UID:e.1561.33639
SEQUENCE:3
DTSTAMP:20260423T193829Z
URL:https://business.chandlerchamber.com/events/details/ribbon-cutting-for-templeton-group-at-stunning-homes-realty-33639
END:VEVENT

END:VCALENDAR
