BEGIN:VCALENDAR
VERSION:2.0
PRODID:-//ChamberMaster//Event Calendar 2.0//EN
METHOD:PUBLISH
X-PUBLISHED-TTL:P3D
REFRESH-INTERVAL:P3D
CALSCALE:GREGORIAN
BEGIN:VEVENT
DTSTART:20190625T230000Z
DTEND:20190626T000000Z
X-MICROSOFT-CDO-ALLDAYEVENT:FALSE
SUMMARY:Ribbon Cutting for The Lab
DESCRIPTION:Join the Chandler Chamber at the Ribbon Cutting for The Lab\n\n\n\nThank you to our Ribbon Cutting Sponsor Laser Creations
X-ALT-DESC;FMTTYPE=text/html:Join the Chandler Chamber at the Ribbon Cutting for The Lab<br />\n<br />\nThank you to our Ribbon Cutting Sponsor Laser Creations
LOCATION:255 W Warner Rd Chandler\, AZ 85225 (Warner/Hartford - just east of Down Time Wines)
UID:e.1561.36719
SEQUENCE:3
DTSTAMP:20260423T003736Z
URL:https://business.chandlerchamber.com/events/details/ribbon-cutting-for-the-lab-36719
END:VEVENT

END:VCALENDAR
