BEGIN:VCALENDAR
VERSION:2.0
PRODID:-//ChamberMaster//Event Calendar 2.0//EN
METHOD:PUBLISH
X-PUBLISHED-TTL:P3D
REFRESH-INTERVAL:P3D
CALSCALE:GREGORIAN
BEGIN:VEVENT
DTSTART:20171116T230000Z
DTEND:20171117T000000Z
X-MICROSOFT-CDO-ALLDAYEVENT:FALSE
SUMMARY:Ribbon Cutting for The Local Chandler
DESCRIPTION:Join the Chandler Chamber at the ribbon cutting for\n\nThe Local Chandler    \n\n*Thank you to our ribbon sponsor Laser Creations*
X-ALT-DESC;FMTTYPE=text/html:Join the Chandler Chamber at the ribbon cutting for<br />\nThe Local Chandler&nbsp\;&nbsp\;&nbsp\;&nbsp\;<br />\n*Thank you to our ribbon sponsor Laser Creations*
LOCATION:55 W Chicago St Chandler\, AZ 85225
UID:e.1561.19182
SEQUENCE:3
DTSTAMP:20260424T022426Z
URL:https://business.chandlerchamber.com/events/details/ribbon-cutting-for-the-local-chandler-19182
END:VEVENT

END:VCALENDAR
