BEGIN:VCALENDAR
VERSION:2.0
PRODID:-//ChamberMaster//Event Calendar 2.0//EN
METHOD:PUBLISH
X-PUBLISHED-TTL:P3D
REFRESH-INTERVAL:P3D
CALSCALE:GREGORIAN
BEGIN:VEVENT
DTSTART:20171010T230000Z
DTEND:20171011T000000Z
X-MICROSOFT-CDO-ALLDAYEVENT:FALSE
SUMMARY:Ribbon Cutting for Tower Storage
DESCRIPTION:Join the Chandler Chamber for a ribbon cutting at Tower Storage\n\n*Thank you to our ribbon sponsor Laser Creation*
X-ALT-DESC;FMTTYPE=text/html:Join the Chandler Chamber for a ribbon cutting at Tower Storage<br />\n*Thank you to our ribbon sponsor Laser Creation*<br />\n&nbsp\;
LOCATION:Tower Storage 5205 S Arizona Ave Chandler\, AZ 85248 (just south of Chandler Heights on east side of Arizona Ave)
UID:e.1561.19149
SEQUENCE:3
DTSTAMP:20260424T050801Z
URL:https://business.chandlerchamber.com/events/details/ribbon-cutting-for-tower-storage-19149
END:VEVENT

END:VCALENDAR
