BEGIN:VCALENDAR
VERSION:2.0
PRODID:-//ChamberMaster//Event Calendar 2.0//EN
METHOD:PUBLISH
X-PUBLISHED-TTL:P3D
REFRESH-INTERVAL:P3D
CALSCALE:GREGORIAN
BEGIN:VEVENT
DTSTART:20170929T230000Z
DTEND:20170930T000000Z
X-MICROSOFT-CDO-ALLDAYEVENT:FALSE
SUMMARY:Ribbon Cutting for Towneplace Suites Chandler Fashion Center
DESCRIPTION:Join the Chandler Chamber for a ribbon cutting for\n\nTowneplace Suites Chandler Fashion Center\n\nThank you to our ribbon sponsor Laser Creations
X-ALT-DESC;FMTTYPE=text/html:Join the Chandler Chamber for a ribbon cutting for<br />\nTowneplace Suites Chandler Fashion Center<br />\nThank you to our ribbon sponsor Laser Creations&nbsp\;&nbsp\;&nbsp\;&nbsp\;&nbsp\;&nbsp\;&nbsp\;&nbsp\;&nbsp\;&nbsp\;&nbsp\;&nbsp\;
LOCATION:3635 W Chandler Blvd Chandler\, AZ 85226 by the Chandler Fashion Center\, west of the 101
UID:e.1561.19130
SEQUENCE:3
DTSTAMP:20260424T051637Z
URL:https://business.chandlerchamber.com/events/details/ribbon-cutting-for-towneplace-suites-chandler-fashion-center-19130
END:VEVENT

END:VCALENDAR
