BEGIN:VCALENDAR
VERSION:2.0
PRODID:-//ChamberMaster//Event Calendar 2.0//EN
METHOD:PUBLISH
X-PUBLISHED-TTL:P3D
REFRESH-INTERVAL:P3D
CALSCALE:GREGORIAN
BEGIN:VEVENT
DTSTART:20190312T230000Z
DTEND:20190313T000000Z
X-MICROSOFT-CDO-ALLDAYEVENT:FALSE
SUMMARY:Ribbon Cutting for Tryst Cafe
DESCRIPTION:Join the Chandler Chamber at the Ribbon Cutting for:\n\nTryst Cafe\n\n\n\nThank you to our Ribbon Sponsor: Laser Creations
X-ALT-DESC;FMTTYPE=text/html:Join the Chandler Chamber at the Ribbon Cutting for:<br />\nTryst Cafe<br />\n<br />\nThank you to our Ribbon Sponsor: Laser Creations
LOCATION:Tryst Cafe 4205 S Gilbert Rd #1 Chandler\, AZ 85249 (SE corner Gilbert Rd/Ocotillo Rd)
UID:e.1561.36315
SEQUENCE:3
DTSTAMP:20260423T061014Z
URL:https://business.chandlerchamber.com/events/details/ribbon-cutting-for-tryst-cafe-36315
END:VEVENT

END:VCALENDAR
