BEGIN:VCALENDAR
VERSION:2.0
PRODID:-//ChamberMaster//Event Calendar 2.0//EN
METHOD:PUBLISH
X-PUBLISHED-TTL:P3D
REFRESH-INTERVAL:P3D
CALSCALE:GREGORIAN
BEGIN:VEVENT
DTSTART:20180808T223000Z
DTEND:20180808T233000Z
X-MICROSOFT-CDO-ALLDAYEVENT:FALSE
SUMMARY:Ribbon Cutting for Uptown Jungle
DESCRIPTION:Join the Chandler Chamber of Commerce at the ribbon cutting for\n\nUptown Jungle\n\n\n\n"Thank you to our ribbon sponsor Laser Creations"
X-ALT-DESC;FMTTYPE=text/html:Join the Chandler Chamber of Commerce at the ribbon cutting for<br />\nUptown Jungle<br />\n<br />\n&quot\;Thank you to our ribbon sponsor Laser Creations&quot\;
LOCATION:2061 N. Arizona Ave Chandler\, AZ 85225 (Arizona Ave & Warner Rd)
UID:e.1561.33725
SEQUENCE:3
DTSTAMP:20260423T150942Z
URL:https://business.chandlerchamber.com/events/details/ribbon-cutting-for-uptown-jungle-33725
END:VEVENT

END:VCALENDAR
