BEGIN:VCALENDAR
VERSION:2.0
PRODID:-//ChamberMaster//Event Calendar 2.0//EN
METHOD:PUBLISH
X-PUBLISHED-TTL:P3D
REFRESH-INTERVAL:P3D
CALSCALE:GREGORIAN
BEGIN:VEVENT
DTSTART:20171128T230000Z
DTEND:20171129T000000Z
X-MICROSOFT-CDO-ALLDAYEVENT:FALSE
SUMMARY:Ribbon Cutting for Venice Nail Lounge
DESCRIPTION:Join the Chandler Chamber at a ribbon cutting for Venice Nail Lounge's Grand Opening Celebration!\n\n*Thank you to our ribbon sponsor Laser Creations*
X-ALT-DESC;FMTTYPE=text/html:Join the Chandler Chamber at a ribbon cutting for Venice Nail Lounge&#39\;s Grand Opening Celebration!<br />\n*Thank you to our ribbon sponsor Laser Creations*
LOCATION:900 N 54th St\, Suite 3 Chandler AZ 85226 SW corner of 54th St and Ray Rd
UID:e.1561.19617
SEQUENCE:3
DTSTAMP:20260424T034640Z
URL:https://business.chandlerchamber.com/events/details/ribbon-cutting-for-venice-nail-lounge-19617
END:VEVENT

END:VCALENDAR
