BEGIN:VCALENDAR
VERSION:2.0
PRODID:-//ChamberMaster//Event Calendar 2.0//EN
METHOD:PUBLISH
X-PUBLISHED-TTL:P3D
REFRESH-INTERVAL:P3D
CALSCALE:GREGORIAN
BEGIN:VEVENT
DTSTART:20180502T230000Z
DTEND:20180503T000000Z
X-MICROSOFT-CDO-ALLDAYEVENT:FALSE
SUMMARY:Ribbon Cutting for Waxing the City Arizona\, LLC
DESCRIPTION:Join the Chandler Chamber at a Ribbon Cutting for Waxing the City Arizona\, LLC\n\n\n\n*Thank you to our Ribbon Sponsor Laser Creations*
X-ALT-DESC;FMTTYPE=text/html:Join the Chandler Chamber at a Ribbon Cutting for Waxing the City Arizona\, LLC<br />\n<br />\n*Thank you to our Ribbon Sponsor Laser Creations*
LOCATION:2875 W Ray Rd.\, Ste 7 Chandler AZ 85224 SE Corner of Ray and the 101
UID:e.1561.33634
SEQUENCE:3
DTSTAMP:20260423T181604Z
URL:https://business.chandlerchamber.com/events/details/ribbon-cutting-for-waxing-the-city-arizona-llc-33634
END:VEVENT

END:VCALENDAR
