BEGIN:VCALENDAR
VERSION:2.0
PRODID:-//ChamberMaster//Event Calendar 2.0//EN
METHOD:PUBLISH
X-PUBLISHED-TTL:P3D
REFRESH-INTERVAL:P3D
CALSCALE:GREGORIAN
BEGIN:VEVENT
DTSTART:20171115T223000Z
DTEND:20171116T000000Z
X-MICROSOFT-CDO-ALLDAYEVENT:FALSE
SUMMARY:Ribbon Cutting for Wells Fargo
DESCRIPTION:Join the Chandler Chamber for a ribbon cutting for Wells Fargo    \n\n*Thank you to our ribbon sponsor Laser Creations*
X-ALT-DESC;FMTTYPE=text/html:Join the Chandler Chamber for a ribbon cutting for Wells Fargo&nbsp\;&nbsp\;&nbsp\;&nbsp\;<br />\n*Thank you to our ribbon sponsor Laser Creations*
LOCATION:1265 S Price Rd\, Ste 1 Chandler\, AZ 85286
UID:e.1561.19211
SEQUENCE:3
DTSTAMP:20260424T034640Z
URL:https://business.chandlerchamber.com/events/details/ribbon-cutting-for-wells-fargo-19211
END:VEVENT

END:VCALENDAR
