BEGIN:VCALENDAR
VERSION:2.0
PRODID:-//ChamberMaster//Event Calendar 2.0//EN
METHOD:PUBLISH
X-PUBLISHED-TTL:P3D
REFRESH-INTERVAL:P3D
CALSCALE:GREGORIAN
BEGIN:VEVENT
DTSTART:20220303T230000Z
DTEND:20220304T000000Z
X-MICROSOFT-CDO-ALLDAYEVENT:FALSE
SUMMARY:Ribbon Cutting for Woodrow Technology Solutions
DESCRIPTION:Join the Chandler Chamber at the Ribbon Cutting for\n\nWoodrow Technology Solutions\n\n1755 W University Dr. Suite 115\n\nTempe AZ 85281\n\n\n\nThank you to our Ribbon Sponsor: Laser Creations
X-ALT-DESC;FMTTYPE=text/html:Join the Chandler Chamber at the Ribbon Cutting for<br />\n<strong>Woodrow Technology Solutions<br />\n1755 W University Dr. Suite 115<br />\nTempe AZ 85281<br />\n<br />\nThank you to our Ribbon Sponsor: Laser Creations</strong>
LOCATION:Beer and Wine Bar\; food and appetizers\; Event will run from 4:00-6:30 1755 W University Dr. Suite 115 Tempe AZ 85281
UID:e.1561.40593
SEQUENCE:3
DTSTAMP:20260423T233910Z
URL:https://business.chandlerchamber.com/events/details/ribbon-cutting-for-woodrow-technology-solutions-40593
END:VEVENT

END:VCALENDAR
