BEGIN:VCALENDAR
VERSION:2.0
PRODID:-//ChamberMaster//Event Calendar 2.0//EN
METHOD:PUBLISH
X-PUBLISHED-TTL:P3D
REFRESH-INTERVAL:P3D
CALSCALE:GREGORIAN
BEGIN:VEVENT
DTSTART:20191024T230000Z
DTEND:20191025T000000Z
X-MICROSOFT-CDO-ALLDAYEVENT:FALSE
SUMMARY:Ribbon Cutting for Young Orthodontics
DESCRIPTION:Join the Chandler Chamber at the Ribbon Cutting for\n\nYoung Orthodontics\n\n\n\n*Thank you to our ribbon sponsor Laser Creations*
X-ALT-DESC;FMTTYPE=text/html:Join the Chandler Chamber at the Ribbon Cutting for<br />\n<strong>Young Orthodontics</strong><br />\n<br />\n*Thank you to our ribbon sponsor Laser Creations*
LOCATION:1055 W Queen Creek Rd #5 Chandler AZ 85248 (SW corner Alma School/Queen Creek Rd)
UID:e.1561.36787
SEQUENCE:3
DTSTAMP:20260422T202212Z
URL:https://business.chandlerchamber.com/events/details/ribbon-cutting-for-young-orthodontics-36787
END:VEVENT

END:VCALENDAR
